BEGIN:VCALENDAR
VERSION:2.0
PRODID:-//Rajbala Foundation - ECPv6.15.15//NONSGML v1.0//EN
CALSCALE:GREGORIAN
METHOD:PUBLISH
X-ORIGINAL-URL:http://rajbalafoundation.org
X-WR-CALDESC:Events for Rajbala Foundation
REFRESH-INTERVAL;VALUE=DURATION:PT1H
X-Robots-Tag:noindex
X-PUBLISHED-TTL:PT1H
BEGIN:VTIMEZONE
TZID:UTC
BEGIN:STANDARD
TZOFFSETFROM:+0000
TZOFFSETTO:+0000
TZNAME:UTC
DTSTART:20190101T000000
END:STANDARD
END:VTIMEZONE
BEGIN:VEVENT
DTSTART;TZID=UTC:20230725T110000
DTEND;TZID=UTC:20230725T173000
DTSTAMP:20260423T170810
CREATED:20230802T072132Z
LAST-MODIFIED:20230802T102120Z
UID:2688-1690282800-1690306200@rajbalafoundation.org
SUMMARY:Mental Stress related to Admissions\, especially after class 12th
DESCRIPTION:Program: UDAAN (उड़ान) \nRadio: Gurgaon Ki Awaj 107.8Mhz FM radio \nSummary: Udaan is a live phone-in program\, dealing with everyday mental health issues and is aired every Tuesday at 11:00 am. It is a joint effort of Gurgaon Ki Awaaz (Community Radio) and the Rajbala Foundation. The topic of discussion this Tuesday dealt with tensions arising in children and parents due to admissions\, especially after Grade 12. Peer pressure\, faced both by children and their parents\, choice of institutions and subjects\, an unclear career path\, are some of the issues facing a family. Advice was given by qualified & experienced psychologist from the foundation regarding coping mechanisms\, with emphasis on building a relationship of trust and openness between the children and their parents.
URL:http://rajbalafoundation.org/event/mental-stress-related-to-admissions-especially-after-class-12th/
CATEGORIES:Category Event
ATTACH;FMTTYPE=image/jpeg:http://rajbalafoundation.org/wp-content/uploads/2023/08/17bbf873-a2c9-4e03-8e0d-0ba5786495e5.jpg
END:VEVENT
BEGIN:VEVENT
DTSTART;TZID=UTC:20220718T120000
DTEND;TZID=UTC:20220718T120000
DTSTAMP:20260423T170810
CREATED:20220301T052452Z
LAST-MODIFIED:20220324T094539Z
UID:1888-1658145600-1658145600@rajbalafoundation.org
SUMMARY:TEN NEWS LIVE in collaboration with BIMTECH and UN-GCNI
DESCRIPTION:Mental Health Awareness: Making Communication Channels Robust \nMental Health Illness is a very critical issue all over the globe backed by the fact that it has been included as a global agenda by United Nations as SDG 3 in their Sustainable Development Goals 2030. A show moderated by Prof Saloni Sinha\, Faculty – Business Communication & Theatre\, BIMTECH\, Greater Noida\, was streamed live from TEN NEWS Digital Studio \n The Guests / Panelists were: \n\n    Dr Atreyi Ganguli\, National Professional Officer (Mental Health and Substance Abuse)\, World Health Organisation\, Country Office for India\n     Mr Kamal Singh\, CEO and Executive Director\, UN Global Compact Network India\n     Dr Jini Gopinath\, Chief Psychology Officer at YourDOST (An Online Wellness Coaching Initiative)\n\nMr Satish Kaushik\, Founder Trustee\, Rajbala Foundation (Psychologist and expert in Community Radio and Rural Mental Health Challenges) \n 
URL:http://rajbalafoundation.org/event/ten-news-live-in-collaboration-with-bimtech-and-un-gcni/
LOCATION:GURUGRAM\, GURUGRAM\, GURUGRAM\, Haryana\, 122017\, India
CATEGORIES:Category Event
ATTACH;FMTTYPE=image/png:http://rajbalafoundation.org/wp-content/uploads/2022/03/Ten-News-Live.png
END:VEVENT
BEGIN:VEVENT
DTSTART;TZID=UTC:20200703T110000
DTEND;TZID=UTC:20200703T123000
DTSTAMP:20260423T170810
CREATED:20220301T051039Z
LAST-MODIFIED:20220324T095248Z
UID:1877-1593774000-1593779400@rajbalafoundation.org
SUMMARY:WEBINAR: Delay in Academic Calendar and the Road Ahead
DESCRIPTION:School of Law\, Ansal University\, Gurugram\, brings to you a webinar to address all your queries and concerns with respect to board exams results evaluation\, competing with students whose board exams went smooth\, delayed admissions for under-grad programs\, appearing for entrance exams\, stress management etc. Hear from various stakeholders and make an informed decision. \nPANELISTS \n\nMs. Aditi Misra | Principal\, DPS Sector-45\, Gurugram\nMs. Anuradha Handa | Principal\, G.D Goenka\, Sector-48\, Gurugram\nProf. (Dr.) Kanupriya | Associate Dean\, School of Law\, Ansal University\nMr. Satish Kumar Kaushik | Counselling Psychologist\n\n  \nMODERATORS \n\nDr. Anjali Sehrawat | Assistant Professor\, School of Law\, Ansal University\nMs. Arushi Mehta | Assistant Professor\, School of Law\, Ansal University\n\n 
URL:http://rajbalafoundation.org/event/we-need-to-talk-by-anandita-khera-sept-2021/
LOCATION:GURUGRAM\, GURUGRAM\, GURUGRAM\, Haryana\, 122017\, India
CATEGORIES:Category Event
ATTACH;FMTTYPE=image/png:http://rajbalafoundation.org/wp-content/uploads/2022/02/3.png
END:VEVENT
END:VCALENDAR